BEGIN:VCALENDAR
PRODID:-//Feedo Feed//NONSGML v1.0//EN
VERSION:2.0
CALSCALE:GREGORIAN
METHOD:PUBLISH
X-WR-CALNAME:LCAT II - Lubrication Analyst ISO Category II (Perth)
X-WR-CALDESC:OverviewLubrication management and analysis are critical activities for machine reliability improvement, detection and diagnosis of faults, and root cause elimination. It is a vital component of predictive maintenance programs.Internationally recognisedSVT’s LCAT lubrication programs comply with International Standards ISO 18436-1, ISO 18436-3, ISO 18436-4, ISO/IEC 17024 and offer optional certification by the British Institute of Non-Destructive Testing (BINDT).Course Duration:3 days training plus optional 2 hour certification exam.Brochure (Australia)ContentMaintenance and reliability strategies\nLubricant roles, functions and failure modes\nLubrication health monitoring & diagnostics\nContamination measurement and control\nWear debris monitoring and analysis\nOil sampling best practice\nCorrective actions\nAlternative technologies\nMaintenance recommendations\nWho Should AttendLubrication technicians & personnel\nFacility technicians and operators\nCondition monitoring personnel\nFacility support engineers\nMaintenance personnel\nReliability personnel\nParticipants will learn how to:Schedule & direct lubrication management\nSchedule & direct lubrication analysis\nEstablish procedures for sampling,\npreparation and transport\nSelect appropriate analysis techniques\nSelect appropriate sample locations\nRecognise potential contamination\nAbility to liaise with laboratories\nRecognise abnormal data\nRecommend corrective actions\nMaintain & manage a database of analysis\nPerform basic failure mode & criticality analysis\n
X-MS-OLK-FORCEINSPECTOROPEN:TRUE
BEGIN:VEVENT
DTSTAMP:20200227T013615Z
DTSTART:20200428T081500Z
DTEND:20200501T163000Z
TRANSP:TRANSPARENT
UID:3582020-04-28
SUMMARY:LCAT II - Lubrication Analyst ISO Category II (Perth)
DESCRIPTION:OverviewLubrication management and analysis are critical activities for machine reliability improvement, detection and diagnosis of faults, and root cause elimination. It is a vital component of predictive maintenance programs.Internationally recognisedSVT’s LCAT lubrication programs comply with International Standards ISO 18436-1, ISO 18436-3, ISO 18436-4, ISO/IEC 17024 and offer optional certification by the British Institute of Non-Destructive Testing (BINDT).Course Duration:3 days training plus optional 2 hour certification exam.Brochure (Australia)ContentMaintenance and reliability strategies\nLubricant roles, functions and failure modes\nLubrication health monitoring & diagnostics\nContamination measurement and control\nWear debris monitoring and analysis\nOil sampling best practice\nCorrective actions\nAlternative technologies\nMaintenance recommendations\nWho Should AttendLubrication technicians & personnel\nFacility technicians and operators\nCondition monitoring personnel\nFacility support engineers\nMaintenance personnel\nReliability personnel\nParticipants will learn how to:Schedule & direct lubrication management\nSchedule & direct lubrication analysis\nEstablish procedures for sampling,\npreparation and transport\nSelect appropriate analysis techniques\nSelect appropriate sample locations\nRecognise potential contamination\nAbility to liaise with laboratories\nRecognise abnormal data\nRecommend corrective actions\nMaintain & manage a database of analysis\nPerform basic failure mode & criticality analysis\n
URL:http://training.svt.com.au/svt-training-course-calendar/copy-of-copy-of-copy-of-lcat-ii-lubrication-analyst-iso-category-ii-19-1-1.html
CATEGORIES:Lubrication
GEO:-31.93486009999999;115.83291480000002
LOCATION:Perth Training Centre
END:VEVENT
END:VCALENDAR